BEGIN:VCALENDAR
VERSION:2.0
PRODID:-//Shepherd&#039;s Center of Northern Virginia - ECPv6.15.20//NONSGML v1.0//EN
CALSCALE:GREGORIAN
METHOD:PUBLISH
X-ORIGINAL-URL:https://scnova.org
X-WR-CALDESC:Events for Shepherd&#039;s Center of Northern Virginia
REFRESH-INTERVAL;VALUE=DURATION:PT1H
X-Robots-Tag:noindex
X-PUBLISHED-TTL:PT1H
BEGIN:VTIMEZONE
TZID:America/New_York
BEGIN:DAYLIGHT
TZOFFSETFROM:-0500
TZOFFSETTO:-0400
TZNAME:EDT
DTSTART:20240310T070000
END:DAYLIGHT
BEGIN:STANDARD
TZOFFSETFROM:-0400
TZOFFSETTO:-0500
TZNAME:EST
DTSTART:20241103T060000
END:STANDARD
BEGIN:DAYLIGHT
TZOFFSETFROM:-0500
TZOFFSETTO:-0400
TZNAME:EDT
DTSTART:20250309T070000
END:DAYLIGHT
BEGIN:STANDARD
TZOFFSETFROM:-0400
TZOFFSETTO:-0500
TZNAME:EST
DTSTART:20251102T060000
END:STANDARD
BEGIN:DAYLIGHT
TZOFFSETFROM:-0500
TZOFFSETTO:-0400
TZNAME:EDT
DTSTART:20260308T070000
END:DAYLIGHT
BEGIN:STANDARD
TZOFFSETFROM:-0400
TZOFFSETTO:-0500
TZNAME:EST
DTSTART:20261101T060000
END:STANDARD
END:VTIMEZONE
BEGIN:VEVENT
DTSTART;TZID=America/New_York:20250128T120000
DTEND;TZID=America/New_York:20250128T140000
DTSTAMP:20260420T031212
CREATED:20241202T213457Z
LAST-MODIFIED:20250121T200028Z
UID:10000824-1738065600-1738072800@scnova.org
SUMMARY:Lunch N Life "Operation Jaque Mate" Featuring Speaker Tom Black
DESCRIPTION:
URL:https://scnova.org/event/lunch-n-life-operation-checkmate-featuring-speaker-tom-black/
LOCATION:vienna Presbyterian Church\, 124 Park St. NE\, Vienna\, VA\, 22180\, United States
END:VEVENT
END:VCALENDAR