BEGIN:VCALENDAR
VERSION:2.0
PRODID:-//Shepherd&#039;s Center of Northern Virginia - ECPv6.15.20//NONSGML v1.0//EN
CALSCALE:GREGORIAN
METHOD:PUBLISH
X-ORIGINAL-URL:https://scnova.org
X-WR-CALDESC:Events for Shepherd&#039;s Center of Northern Virginia
REFRESH-INTERVAL;VALUE=DURATION:PT1H
X-Robots-Tag:noindex
X-PUBLISHED-TTL:PT1H
BEGIN:VTIMEZONE
TZID:America/New_York
BEGIN:DAYLIGHT
TZOFFSETFROM:-0500
TZOFFSETTO:-0400
TZNAME:EDT
DTSTART:20200308T070000
END:DAYLIGHT
BEGIN:STANDARD
TZOFFSETFROM:-0400
TZOFFSETTO:-0500
TZNAME:EST
DTSTART:20201101T060000
END:STANDARD
BEGIN:DAYLIGHT
TZOFFSETFROM:-0500
TZOFFSETTO:-0400
TZNAME:EDT
DTSTART:20210314T070000
END:DAYLIGHT
BEGIN:STANDARD
TZOFFSETFROM:-0400
TZOFFSETTO:-0500
TZNAME:EST
DTSTART:20211107T060000
END:STANDARD
BEGIN:DAYLIGHT
TZOFFSETFROM:-0500
TZOFFSETTO:-0400
TZNAME:EDT
DTSTART:20220313T070000
END:DAYLIGHT
BEGIN:STANDARD
TZOFFSETFROM:-0400
TZOFFSETTO:-0500
TZNAME:EST
DTSTART:20221106T060000
END:STANDARD
BEGIN:DAYLIGHT
TZOFFSETFROM:-0500
TZOFFSETTO:-0400
TZNAME:EDT
DTSTART:20230312T070000
END:DAYLIGHT
BEGIN:STANDARD
TZOFFSETFROM:-0400
TZOFFSETTO:-0500
TZNAME:EST
DTSTART:20231105T060000
END:STANDARD
BEGIN:DAYLIGHT
TZOFFSETFROM:-0500
TZOFFSETTO:-0400
TZNAME:EDT
DTSTART:20240310T070000
END:DAYLIGHT
BEGIN:STANDARD
TZOFFSETFROM:-0400
TZOFFSETTO:-0500
TZNAME:EST
DTSTART:20241103T060000
END:STANDARD
BEGIN:DAYLIGHT
TZOFFSETFROM:-0500
TZOFFSETTO:-0400
TZNAME:EDT
DTSTART:20250309T070000
END:DAYLIGHT
BEGIN:STANDARD
TZOFFSETFROM:-0400
TZOFFSETTO:-0500
TZNAME:EST
DTSTART:20251102T060000
END:STANDARD
BEGIN:DAYLIGHT
TZOFFSETFROM:-0500
TZOFFSETTO:-0400
TZNAME:EDT
DTSTART:20260308T070000
END:DAYLIGHT
BEGIN:STANDARD
TZOFFSETFROM:-0400
TZOFFSETTO:-0500
TZNAME:EST
DTSTART:20261101T060000
END:STANDARD
BEGIN:DAYLIGHT
TZOFFSETFROM:-0500
TZOFFSETTO:-0400
TZNAME:EDT
DTSTART:20270314T070000
END:DAYLIGHT
BEGIN:STANDARD
TZOFFSETFROM:-0400
TZOFFSETTO:-0500
TZNAME:EST
DTSTART:20271107T060000
END:STANDARD
END:VTIMEZONE
BEGIN:VEVENT
DTSTART;TZID=America/New_York:20260217T120000
DTEND;TZID=America/New_York:20260217T140000
DTSTAMP:20260419T145153
CREATED:20251211T203533Z
LAST-MODIFIED:20251211T215505Z
UID:10001165-1771329600-1771336800@scnova.org
SUMMARY:Lunar New Year Celebration at Vienna Community Center
DESCRIPTION:  \nJoin us for a fun-filled Lunar New Year celebration February 17\, 2026! Let’s eat delicious food\, enjoy a beautiful show by the Hong Dance School\, and have a great time bringing in the new year with friends! \nRegistration Opens January 2\, 2026!
URL:https://scnova.org/event/lunar-new-year-celebration-at-vienna-community-center/
LOCATION:Vienna Community Center\, 120 Cherry St SE\, Vienna\, VA\, 22180\, United States
END:VEVENT
BEGIN:VEVENT
DTSTART;TZID=America/New_York:20251106T120000
DTEND;TZID=America/New_York:20251106T140000
DTSTAMP:20260419T145153
CREATED:20250514T184648Z
LAST-MODIFIED:20251006T200126Z
UID:10000834-1762430400-1762437600@scnova.org
SUMMARY:Harvest Festival Luncheon with Vienna Community Center
DESCRIPTION:  \n 
URL:https://scnova.org/event/harvest-festival-luncheon-with-vienna-community-center/
LOCATION:Vienna Community Center\, 120 Cherry St SE\, Vienna\, VA\, 22180\, United States
END:VEVENT
BEGIN:VEVENT
DTSTART;TZID=America/New_York:20250304T120000
DTEND;TZID=America/New_York:20250304T140000
DTSTAMP:20260419T145153
CREATED:20250121T195640Z
LAST-MODIFIED:20250130T183707Z
UID:10000825-1741089600-1741096800@scnova.org
SUMMARY:Mardi Gras Celebration 2025
DESCRIPTION:  \nBelow\, indicate the amount of tickets first. Then press “Get Tickets”
URL:https://scnova.org/event/mardi-gras-celebration-2025/
LOCATION:Vienna Community Center\, 120 Cherry St SE\, Vienna\, VA\, 22180\, United States
ORGANIZER;CN="Ambre K. Tomlinson":MAILTO:communications@scnova.org
END:VEVENT
BEGIN:VEVENT
DTSTART;TZID=America/New_York:20241107T120000
DTEND;TZID=America/New_York:20241107T140000
DTSTAMP:20260419T145153
CREATED:20240911T172337Z
LAST-MODIFIED:20241030T160321Z
UID:10000748-1730980800-1730988000@scnova.org
SUMMARY:Harvest Festival Lunch with the Vienna Community Center
DESCRIPTION:
URL:https://scnova.org/event/harvest-festival-lunch-with-the-vienna-community-center/
LOCATION:Vienna Community Center\, 120 Cherry St SE\, Vienna\, VA\, 22180\, United States
END:VEVENT
BEGIN:VEVENT
DTSTART;TZID=America/New_York:20240207T120000
DTEND;TZID=America/New_York:20240207T140000
DTSTAMP:20260419T145153
CREATED:20231031T165641Z
LAST-MODIFIED:20240129T165554Z
UID:10000739-1707307200-1707314400@scnova.org
SUMMARY:Lunar New Year Celebration Lunch N Life
DESCRIPTION:
URL:https://scnova.org/event/lunar-new-year-celebration-lunch-n-life/
LOCATION:Vienna Community Center\, 120 Cherry St SE\, Vienna\, VA\, 22180\, United States
END:VEVENT
BEGIN:VEVENT
DTSTART;TZID=America/New_York:20231115T120000
DTEND;TZID=America/New_York:20231115T140000
DTSTAMP:20260419T145153
CREATED:20231017T210447Z
LAST-MODIFIED:20231109T143738Z
UID:10000736-1700049600-1700056800@scnova.org
SUMMARY:Thanksgiving Lunch with The Vienna Community Center
DESCRIPTION:
URL:https://scnova.org/event/thanksgiving-lunch-with-the-vienna-community-center/
LOCATION:Vienna Community Center\, 120 Cherry St SE\, Vienna\, VA\, 22180\, United States
ORGANIZER;CN="Ambre K. Tomlinson":MAILTO:communications@scnova.org
END:VEVENT
BEGIN:VEVENT
DTSTART;TZID=America/New_York:20230221T120000
DTEND;TZID=America/New_York:20230221T140000
DTSTAMP:20260419T145153
CREATED:20230114T201459Z
LAST-MODIFIED:20230114T201736Z
UID:10000708-1676980800-1676988000@scnova.org
SUMMARY:Mardi Gras Celebration 2023
DESCRIPTION:Come get into the spirit of Mardi Gras and enjoy festivities including a Cajun cuisine lunch\, mask making\, trivia game\, and entertainment.  Dressing up is encouraged\, so wear as much purple\, green and gold as you wish! \nFor adults 55+\, this event is sponsored by Vienna Parks and Recreation and the Shepherd’s Center of Northern Virginia.   \nTickets are $20 per person\, and will be on sale through Feb 10.  Buy your tickets below\, or call us at 703-281-0538. \nSee friends and make new ones during Mardi Gras!  Get your ticket(s) today!
URL:https://scnova.org/event/mardi-gras-celebration-2023/
LOCATION:Vienna Community Center\, 120 Cherry St SE\, Vienna\, VA\, 22180\, United States
END:VEVENT
BEGIN:VEVENT
DTSTART;TZID=America/New_York:20221115T120000
DTEND;TZID=America/New_York:20221115T140000
DTSTAMP:20260419T145153
CREATED:20221013T151645Z
LAST-MODIFIED:20230417T145322Z
UID:10000445-1668513600-1668520800@scnova.org
SUMMARY:Thanksgiving Feast with Vienna Community Center
DESCRIPTION:Please join us on Tuesday\, November 15\, 2022 at the Vienna Community Center for our Annual Thanksgiving Feast. Lunch will include turkey and all the trimmings. Entertainment provided by Rising Phoenix Performers. Buy your tickets soon as supplies are limited.
URL:https://scnova.org/event/thanksgiving-feast-with-vienna-community-center/
LOCATION:Vienna Community Center\, 120 Cherry St SE\, Vienna\, VA\, 22180\, United States
ATTACH;FMTTYPE=image/png:https://scnova.org/wp-content/uploads/2022/10/THURSDAY-NOVEMBER-18-2021-1200-200-P.M.-VIENNA-COMMUNITY-CENTER-120-CHERRY-ST.-SE-15-PER-PERSON-PRE-PAYMENT-DUE-BY-1112-1-e1668026769832.png
ORGANIZER;CN="Laurie Granger":MAILTO:communications@scnova.org
END:VEVENT
BEGIN:VEVENT
DTSTART;TZID=America/New_York:20220217T120000
DTEND;TZID=America/New_York:20220217T140000
DTSTAMP:20260419T145153
CREATED:20211227T183118Z
LAST-MODIFIED:20220106T192704Z
UID:10000421-1645099200-1645106400@scnova.org
SUMMARY:Mardi Gras 2022 Celebration
DESCRIPTION:Get jazzy! Join us for an SCNOVA Mardi Gras Celebration – and jazz your spirits up. Cajun cuisine lunch\, Mardi Gras mask making\, trivia and entertainment all included. Fee is $15 per person. Dressing up is part of the celebration so be sure wear purple\, green and gold – and don’t forget the bling! Remember\, “the bling is the thing”. \nPlace: Vienna Community Center\, 120 Cherry St SE\, Vienna VA 22180\nWho: For seniors 55+.\nRegister: by Feb 11 2022. Either buy tickets here online (see below)\, or call 703-281-0538. \nAs they say in N’awleans: “Laissez les bon temps rouler”. Bring some friends! Let the good times roll! \nDownload event flyer here
URL:https://scnova.org/event/mardi-gras-2022-celebration/
LOCATION:Vienna Community Center\, 120 Cherry St SE\, Vienna\, VA\, 22180\, United States
END:VEVENT
BEGIN:VEVENT
DTSTART;TZID=America/New_York:20211118T120000
DTEND;TZID=America/New_York:20211118T140000
DTSTAMP:20260419T145153
CREATED:20211104T213222Z
LAST-MODIFIED:20211105T220031Z
UID:10000364-1637236800-1637244000@scnova.org
SUMMARY:Bountiful Harvest Thanksgiving Lunch
DESCRIPTION:Bountiful Harvest Thanksgiving Lunch\nYou are invited for turkey and all the trimmings provided by the Davis Career Center with Marshall High School. Entertainment featuring award-winning actress and Smithsonian Scholar Mary Ann Jung. Come celebrate all you are thankful for! \nPlease register by Friday\, November 11\, 2021. Cost is $15 per person. Call The Shepherd’s Center office at 703-281-0538 to register. Seats are limited\, so sign up soon! \nSponsored by SCNOVA\, Vienna Parks and Recreation\, and The Providence of Fairfax. Thank you to our sponsors!
URL:https://scnova.org/event/bountiful-harvest-thanksgiving-lunch/
LOCATION:Vienna Community Center\, 120 Cherry St SE\, Vienna\, VA\, 22180\, United States
END:VEVENT
END:VCALENDAR