BEGIN:VCALENDAR
VERSION:2.0
PRODID:-//Shepherd&#039;s Center of Northern Virginia - ECPv6.15.20//NONSGML v1.0//EN
CALSCALE:GREGORIAN
METHOD:PUBLISH
X-ORIGINAL-URL:https://scnova.org
X-WR-CALDESC:Events for Shepherd&#039;s Center of Northern Virginia
REFRESH-INTERVAL;VALUE=DURATION:PT1H
X-Robots-Tag:noindex
X-PUBLISHED-TTL:PT1H
BEGIN:VTIMEZONE
TZID:America/New_York
BEGIN:DAYLIGHT
TZOFFSETFROM:-0500
TZOFFSETTO:-0400
TZNAME:EDT
DTSTART:20200308T070000
END:DAYLIGHT
BEGIN:STANDARD
TZOFFSETFROM:-0400
TZOFFSETTO:-0500
TZNAME:EST
DTSTART:20201101T060000
END:STANDARD
BEGIN:DAYLIGHT
TZOFFSETFROM:-0500
TZOFFSETTO:-0400
TZNAME:EDT
DTSTART:20210314T070000
END:DAYLIGHT
BEGIN:STANDARD
TZOFFSETFROM:-0400
TZOFFSETTO:-0500
TZNAME:EST
DTSTART:20211107T060000
END:STANDARD
BEGIN:DAYLIGHT
TZOFFSETFROM:-0500
TZOFFSETTO:-0400
TZNAME:EDT
DTSTART:20220313T070000
END:DAYLIGHT
BEGIN:STANDARD
TZOFFSETFROM:-0400
TZOFFSETTO:-0500
TZNAME:EST
DTSTART:20221106T060000
END:STANDARD
END:VTIMEZONE
BEGIN:VEVENT
DTSTART;TZID=America/New_York:20211209T140000
DTEND;TZID=America/New_York:20211209T150000
DTSTAMP:20260420T012501
CREATED:20211104T212331Z
LAST-MODIFIED:20211110T224919Z
UID:10000363-1639058400-1639062000@scnova.org
SUMMARY:Virtual Volunteer Orientation
DESCRIPTION:New volunteer orientation and training. Conducted virtually via Zoom. \nRegister in advance for this meeting:\nclick here to register \nAfter registering\, you will receive a confirmation email containing information about joining the meeting.
URL:https://scnova.org/event/virtual-volunteer-orientation-2/
LOCATION:via Zoom
ORGANIZER;CN="Erin O'Reilly":MAILTO:erinoreilly@scnova.org
END:VEVENT
BEGIN:VEVENT
DTSTART;TZID=America/New_York:20211117T140000
DTEND;TZID=America/New_York:20211117T150000
DTSTAMP:20260420T012501
CREATED:20211104T211951Z
LAST-MODIFIED:20211110T225120Z
UID:10000362-1637157600-1637161200@scnova.org
SUMMARY:Virtual Volunteer Orientation
DESCRIPTION:New volunteer orientation and training. Conducted virtually via Zoom. \nRegister in advance for this meeting:\nclick here to register \nAfter registering\, you will receive a confirmation email containing information about joining the meeting.
URL:https://scnova.org/event/virtual-volunteer-orientation/
LOCATION:via Zoom
ORGANIZER;CN="Erin O'Reilly":MAILTO:volunteers@scnova.org
END:VEVENT
END:VCALENDAR