BEGIN:VCALENDAR
VERSION:2.0
PRODID:-//Shepherd&#039;s Center of Northern Virginia - ECPv6.15.20//NONSGML v1.0//EN
CALSCALE:GREGORIAN
METHOD:PUBLISH
X-ORIGINAL-URL:https://scnova.org
X-WR-CALDESC:Events for Shepherd&#039;s Center of Northern Virginia
REFRESH-INTERVAL;VALUE=DURATION:PT1H
X-Robots-Tag:noindex
X-PUBLISHED-TTL:PT1H
BEGIN:VTIMEZONE
TZID:America/New_York
BEGIN:DAYLIGHT
TZOFFSETFROM:-0500
TZOFFSETTO:-0400
TZNAME:EDT
DTSTART:20230312T070000
END:DAYLIGHT
BEGIN:STANDARD
TZOFFSETFROM:-0400
TZOFFSETTO:-0500
TZNAME:EST
DTSTART:20231105T060000
END:STANDARD
BEGIN:DAYLIGHT
TZOFFSETFROM:-0500
TZOFFSETTO:-0400
TZNAME:EDT
DTSTART:20240310T070000
END:DAYLIGHT
BEGIN:STANDARD
TZOFFSETFROM:-0400
TZOFFSETTO:-0500
TZNAME:EST
DTSTART:20241103T060000
END:STANDARD
BEGIN:DAYLIGHT
TZOFFSETFROM:-0500
TZOFFSETTO:-0400
TZNAME:EDT
DTSTART:20250309T070000
END:DAYLIGHT
BEGIN:STANDARD
TZOFFSETFROM:-0400
TZOFFSETTO:-0500
TZNAME:EST
DTSTART:20251102T060000
END:STANDARD
END:VTIMEZONE
BEGIN:VEVENT
DTSTART;TZID=America/New_York:20241029T100000
DTEND;TZID=America/New_York:20241029T120000
DTSTAMP:20260419T095909
CREATED:20241009T144628Z
LAST-MODIFIED:20241009T144628Z
UID:10000822-1730196000-1730203200@scnova.org
SUMMARY:SCNOVA Volunteer Meet & Greet
DESCRIPTION:  \nCalling all existing and potential volunteers. Join us for coffee\, breakfast sweets and an information session at SCNOVA headquarters (541 Marshall Rd. SW\, Vienna VA\, 22180). October 29\, 2024 – 10am to 12pm \nLearn more about our mission\, volunteer opportunities and how you can help The Shepherd’s Center of Northern Virginia serve your community! Call 703-281-0538 to sign up for this free event\, today!
URL:https://scnova.org/event/scnova-volunteer-meet-greet/
LOCATION:Shepherd’s Center of Northern Virginia\, 541 Marshall Road\, SW\, Vienna\, VA\, 22180\, United States
ORGANIZER;CN="Ambre K. Tomlinson":MAILTO:communications@scnova.org
END:VEVENT
BEGIN:VEVENT
DTSTART;TZID=America/New_York:20240409T100000
DTEND;TZID=America/New_York:20240409T120000
DTSTAMP:20260419T095909
CREATED:20240321T200901Z
LAST-MODIFIED:20240321T200901Z
UID:10000742-1712656800-1712664000@scnova.org
SUMMARY:Volunteer Meet & Greet Potluck Breakfast
DESCRIPTION:
URL:https://scnova.org/event/volunteer-meet-greet-potluck-breakfast-3/
LOCATION:Shepherd’s Center of Northern Virginia\, 541 Marshall Road\, SW\, Vienna\, VA\, 22180\, United States
ORGANIZER;CN="Ambre K. Tomlinson":MAILTO:communications@scnova.org
END:VEVENT
BEGIN:VEVENT
DTSTART;TZID=America/New_York:20240118T100000
DTEND;TZID=America/New_York:20240118T120000
DTSTAMP:20260419T095909
CREATED:20231102T175441Z
LAST-MODIFIED:20231218T203040Z
UID:10000740-1705572000-1705579200@scnova.org
SUMMARY:Volunteer Meet & Greet Potluck Breakfast
DESCRIPTION:
URL:https://scnova.org/event/volunteer-meet-greet-potluck-breakfast-2/
LOCATION:Shepherd’s Center of Northern Virginia\, 541 Marshall Road\, SW\, Vienna\, VA\, 22180\, United States
ORGANIZER;CN="Marianne Monek":MAILTO:office@scnova.org
END:VEVENT
END:VCALENDAR