BEGIN:VCALENDAR
VERSION:2.0
PRODID:-//Shepherd&#039;s Center of Northern Virginia - ECPv6.15.20//NONSGML v1.0//EN
CALSCALE:GREGORIAN
METHOD:PUBLISH
X-WR-CALNAME:Shepherd&#039;s Center of Northern Virginia
X-ORIGINAL-URL:https://scnova.org
X-WR-CALDESC:Events for Shepherd&#039;s Center of Northern Virginia
REFRESH-INTERVAL;VALUE=DURATION:PT1H
X-Robots-Tag:noindex
X-PUBLISHED-TTL:PT1H
BEGIN:VTIMEZONE
TZID:America/New_York
BEGIN:DAYLIGHT
TZOFFSETFROM:-0500
TZOFFSETTO:-0400
TZNAME:EDT
DTSTART:20240310T070000
END:DAYLIGHT
BEGIN:STANDARD
TZOFFSETFROM:-0400
TZOFFSETTO:-0500
TZNAME:EST
DTSTART:20241103T060000
END:STANDARD
BEGIN:DAYLIGHT
TZOFFSETFROM:-0500
TZOFFSETTO:-0400
TZNAME:EDT
DTSTART:20250309T070000
END:DAYLIGHT
BEGIN:STANDARD
TZOFFSETFROM:-0400
TZOFFSETTO:-0500
TZNAME:EST
DTSTART:20251102T060000
END:STANDARD
BEGIN:DAYLIGHT
TZOFFSETFROM:-0500
TZOFFSETTO:-0400
TZNAME:EDT
DTSTART:20260308T070000
END:DAYLIGHT
BEGIN:STANDARD
TZOFFSETFROM:-0400
TZOFFSETTO:-0500
TZNAME:EST
DTSTART:20261101T060000
END:STANDARD
END:VTIMEZONE
BEGIN:VEVENT
DTSTART;TZID=America/New_York:20251008T120000
DTEND;TZID=America/New_York:20251008T140000
DTSTAMP:20260422T103319
CREATED:20250730T205035Z
LAST-MODIFIED:20250903T190424Z
UID:10001159-1759924800-1759932000@scnova.org
SUMMARY:Murder Mystery Lunch N Life
DESCRIPTION:  \n \n\nIt’s a classic case of who done it! Join us for lunch and an exciting\, immersive show. We will work together to find out exactly who the “Murderer” is and why. 12:00pm – 2:00pm\, at Floris United Methodist Church (13600 Frying Pan Rd\, Herndon\, VA 20171) $20.00 for lunch and entertainment. Registration is open!
URL:https://scnova.org/event/murder-mystery-lunch-n-life-2/
LOCATION:Floris United Methodist Church\, 13600 Frying Pan Rd.\, Herndon\, VA\, 20171\, United States
ORGANIZER;CN="Ambre K. Tomlinson":MAILTO:communications@scnova.org
END:VEVENT
END:VCALENDAR