BEGIN:VCALENDAR
VERSION:2.0
PRODID:-//Shepherd&#039;s Center of Northern Virginia - ECPv6.15.20//NONSGML v1.0//EN
CALSCALE:GREGORIAN
METHOD:PUBLISH
X-WR-CALNAME:Shepherd&#039;s Center of Northern Virginia
X-ORIGINAL-URL:https://scnova.org
X-WR-CALDESC:Events for Shepherd&#039;s Center of Northern Virginia
REFRESH-INTERVAL;VALUE=DURATION:PT1H
X-Robots-Tag:noindex
X-PUBLISHED-TTL:PT1H
BEGIN:VTIMEZONE
TZID:America/New_York
BEGIN:DAYLIGHT
TZOFFSETFROM:-0500
TZOFFSETTO:-0400
TZNAME:EDT
DTSTART:20240310T070000
END:DAYLIGHT
BEGIN:STANDARD
TZOFFSETFROM:-0400
TZOFFSETTO:-0500
TZNAME:EST
DTSTART:20241103T060000
END:STANDARD
BEGIN:DAYLIGHT
TZOFFSETFROM:-0500
TZOFFSETTO:-0400
TZNAME:EDT
DTSTART:20250309T070000
END:DAYLIGHT
BEGIN:STANDARD
TZOFFSETFROM:-0400
TZOFFSETTO:-0500
TZNAME:EST
DTSTART:20251102T060000
END:STANDARD
BEGIN:DAYLIGHT
TZOFFSETFROM:-0500
TZOFFSETTO:-0400
TZNAME:EDT
DTSTART:20260308T070000
END:DAYLIGHT
BEGIN:STANDARD
TZOFFSETFROM:-0400
TZOFFSETTO:-0500
TZNAME:EST
DTSTART:20261101T060000
END:STANDARD
END:VTIMEZONE
BEGIN:VEVENT
DTSTART;TZID=America/New_York:20250218T130000
DTEND;TZID=America/New_York:20250218T141500
DTSTAMP:20260419T221245
CREATED:20250127T164804Z
LAST-MODIFIED:20250127T164804Z
UID:10000826-1739883600-1739888100@scnova.org
SUMMARY:Congregational Advisory Council Meeting
DESCRIPTION:All are welcome to join. RSVP and let us know if you are joining via zoom or in person: cacscov@gmail.com. A zoom link will be sent out prior to meeting \nIf joining in person the location is\, Church of the Holy Comforter (543 Beulah Rd.\, Vienna VA\, 22180)  \n 
URL:https://scnova.org/event/congregational-advisory-council-meeting/
LOCATION:Church of the Holy Comforter\, 543 Beulah Rd.\, Vienna\, VA\, 22180\, United States
ORGANIZER;CN="Ambre K. Tomlinson":MAILTO:communications@scnova.org
END:VEVENT
END:VCALENDAR