BEGIN:VCALENDAR
VERSION:2.0
PRODID:-//Shepherd&#039;s Center of Northern Virginia - ECPv6.15.20//NONSGML v1.0//EN
CALSCALE:GREGORIAN
METHOD:PUBLISH
X-ORIGINAL-URL:https://scnova.org
X-WR-CALDESC:Events for Shepherd&#039;s Center of Northern Virginia
REFRESH-INTERVAL;VALUE=DURATION:PT1H
X-Robots-Tag:noindex
X-PUBLISHED-TTL:PT1H
BEGIN:VTIMEZONE
TZID:America/New_York
BEGIN:DAYLIGHT
TZOFFSETFROM:-0500
TZOFFSETTO:-0400
TZNAME:EDT
DTSTART:20210314T070000
END:DAYLIGHT
BEGIN:STANDARD
TZOFFSETFROM:-0400
TZOFFSETTO:-0500
TZNAME:EST
DTSTART:20211107T060000
END:STANDARD
BEGIN:DAYLIGHT
TZOFFSETFROM:-0500
TZOFFSETTO:-0400
TZNAME:EDT
DTSTART:20220313T070000
END:DAYLIGHT
BEGIN:STANDARD
TZOFFSETFROM:-0400
TZOFFSETTO:-0500
TZNAME:EST
DTSTART:20221106T060000
END:STANDARD
BEGIN:DAYLIGHT
TZOFFSETFROM:-0500
TZOFFSETTO:-0400
TZNAME:EDT
DTSTART:20230312T070000
END:DAYLIGHT
BEGIN:STANDARD
TZOFFSETFROM:-0400
TZOFFSETTO:-0500
TZNAME:EST
DTSTART:20231105T060000
END:STANDARD
END:VTIMEZONE
BEGIN:VEVENT
DTSTART;TZID=America/New_York:20221115T120000
DTEND;TZID=America/New_York:20221115T140000
DTSTAMP:20260419T180703
CREATED:20221013T151645Z
LAST-MODIFIED:20230417T145322Z
UID:10000445-1668513600-1668520800@scnova.org
SUMMARY:Thanksgiving Feast with Vienna Community Center
DESCRIPTION:Please join us on Tuesday\, November 15\, 2022 at the Vienna Community Center for our Annual Thanksgiving Feast. Lunch will include turkey and all the trimmings. Entertainment provided by Rising Phoenix Performers. Buy your tickets soon as supplies are limited.
URL:https://scnova.org/event/thanksgiving-feast-with-vienna-community-center/
LOCATION:Vienna Community Center\, 120 Cherry St SE\, Vienna\, VA\, 22180\, United States
ATTACH;FMTTYPE=image/png:https://scnova.org/wp-content/uploads/2022/10/THURSDAY-NOVEMBER-18-2021-1200-200-P.M.-VIENNA-COMMUNITY-CENTER-120-CHERRY-ST.-SE-15-PER-PERSON-PRE-PAYMENT-DUE-BY-1112-1-e1668026769832.png
ORGANIZER;CN="Laurie Granger":MAILTO:communications@scnova.org
END:VEVENT
BEGIN:VEVENT
DTSTART;TZID=America/New_York:20221025T120000
DTEND;TZID=America/New_York:20221025T140000
DTSTAMP:20260419T180703
CREATED:20220914T204910Z
LAST-MODIFIED:20221019T192110Z
UID:10000444-1666699200-1666706400@scnova.org
SUMMARY:SCNOVA Lunch and Life at St. John Neumann's Church
DESCRIPTION:The Shepherd’s Center of Northern Virginia is continuing it’s Lunch and Life Series on Tuesday\, October 25\, 2022 at St. John Neumann Church in Reston\, Virginia. Come listen to our guest speakers\, Dr. Catherine O’Brien PGD\, MPH and Jennifer L. Smith\, PHD as they discuss mental health and How Hope Functions as a Motivator for Healthy Behavior.\nTicket Price: $20 (includes lunch and guest speakers)\nRSVP: Please RSVP by October 21\, 2022. Call 703-281-0538 to buy tickets or you can purchase them below.
URL:https://scnova.org/event/scnova-lunch-and-life-at-st-john-neumanns-church/
LOCATION:St. John Neumann Church\, 11900 Lawyers Rd\, Reston\, VA\, 20191\, United States
ATTACH;FMTTYPE=image/jpeg:https://scnova.org/wp-content/uploads/2022/10/Summer-LnL-1.jpg
ORGANIZER;CN="Laurie Granger":MAILTO:communications@scnova.org
END:VEVENT
BEGIN:VEVENT
DTSTART;TZID=America/New_York:20220725T170000
DTEND;TZID=America/New_York:20220725T190000
DTSTAMP:20260419T180703
CREATED:20220707T191033Z
LAST-MODIFIED:20220906T172259Z
UID:10000441-1658768400-1658775600@scnova.org
SUMMARY:Bingo at Foster's Grille
DESCRIPTION:SCNOVA Bingo at Foster’s Grille is scheduled for Monday\, September 19th  from 5pm-7pm at Foster’s Grille in Vienna\, Virginia. Come for dinner and 10 games of Bingo. $10/10 cards and prizes for every game. Bring your appetite because SCNOVA will receive 20% of food proceeds as well. Contact communications@scnova.org with any questions.
URL:https://scnova.org/event/bingo-at-fosters-grille/
ORGANIZER;CN="Laurie Granger":MAILTO:communications@scnova.org
END:VEVENT
BEGIN:VEVENT
DTSTART;TZID=America/New_York:20220718T120000
DTEND;TZID=America/New_York:20220718T140000
DTSTAMP:20260419T180703
CREATED:20220615T174938Z
LAST-MODIFIED:20230417T145347Z
UID:10000440-1658145600-1658152800@scnova.org
SUMMARY:Summer Lunch N Life
DESCRIPTION:Join SCNOVA on Monday\, July 18\, 2022 at Emmanuel Lutheran Church from 12pm-2pm for a delicious Maggio’s lunch and an Appraisal Roadshow hosted by Steve Gouterman. Bring one personal item such as jewelry\, coins or timepieces and the appraisal experts will educate you and the audience with interesting facts and information on what it is\, what it’s worth and what you can do with your treasure. Cost is $20/person. Call 703-281-0538 to register or purchase your ticket below. RSVP by July 13\, 2022.
URL:https://scnova.org/event/summer-lunch-n-life/
LOCATION:Emmanuel Lutheran Church\, 2589 Chain Bridge Rd\, Vienna\, VA\, 22181\, United States
ORGANIZER;CN="Laurie Granger":MAILTO:communications@scnova.org
END:VEVENT
END:VCALENDAR