BEGIN:VCALENDAR
VERSION:2.0
PRODID:-//Shepherd&#039;s Center of Northern Virginia - ECPv6.15.20//NONSGML v1.0//EN
CALSCALE:GREGORIAN
METHOD:PUBLISH
X-ORIGINAL-URL:https://scnova.org
X-WR-CALDESC:Events for Shepherd&#039;s Center of Northern Virginia
REFRESH-INTERVAL;VALUE=DURATION:PT1H
X-Robots-Tag:noindex
X-PUBLISHED-TTL:PT1H
BEGIN:VTIMEZONE
TZID:America/New_York
BEGIN:DAYLIGHT
TZOFFSETFROM:-0500
TZOFFSETTO:-0400
TZNAME:EDT
DTSTART:20230312T070000
END:DAYLIGHT
BEGIN:STANDARD
TZOFFSETFROM:-0400
TZOFFSETTO:-0500
TZNAME:EST
DTSTART:20231105T060000
END:STANDARD
BEGIN:DAYLIGHT
TZOFFSETFROM:-0500
TZOFFSETTO:-0400
TZNAME:EDT
DTSTART:20240310T070000
END:DAYLIGHT
BEGIN:STANDARD
TZOFFSETFROM:-0400
TZOFFSETTO:-0500
TZNAME:EST
DTSTART:20241103T060000
END:STANDARD
BEGIN:DAYLIGHT
TZOFFSETFROM:-0500
TZOFFSETTO:-0400
TZNAME:EDT
DTSTART:20250309T070000
END:DAYLIGHT
BEGIN:STANDARD
TZOFFSETFROM:-0400
TZOFFSETTO:-0500
TZNAME:EST
DTSTART:20251102T060000
END:STANDARD
BEGIN:DAYLIGHT
TZOFFSETFROM:-0500
TZOFFSETTO:-0400
TZNAME:EDT
DTSTART:20260308T070000
END:DAYLIGHT
BEGIN:STANDARD
TZOFFSETFROM:-0400
TZOFFSETTO:-0500
TZNAME:EST
DTSTART:20261101T060000
END:STANDARD
BEGIN:DAYLIGHT
TZOFFSETFROM:-0500
TZOFFSETTO:-0400
TZNAME:EDT
DTSTART:20270314T070000
END:DAYLIGHT
BEGIN:STANDARD
TZOFFSETFROM:-0400
TZOFFSETTO:-0500
TZNAME:EST
DTSTART:20271107T060000
END:STANDARD
BEGIN:DAYLIGHT
TZOFFSETFROM:-0500
TZOFFSETTO:-0400
TZNAME:EDT
DTSTART:20280312T070000
END:DAYLIGHT
BEGIN:STANDARD
TZOFFSETFROM:-0400
TZOFFSETTO:-0500
TZNAME:EST
DTSTART:20281105T060000
END:STANDARD
END:VTIMEZONE
BEGIN:VEVENT
DTSTART;TZID=America/New_York:20241001T100000
DTEND;TZID=America/New_York:20270101T113000
DTSTAMP:20260424T163456
CREATED:20240924T181257Z
LAST-MODIFIED:20260106T160055Z
UID:10000811-1727776800-1798803000@scnova.org
SUMMARY:Caregiver Support Group
DESCRIPTION:Meets the 1st and 3rd Tuesdays of each month\n10:00 am to 11:30 am via Zoom \nThe group is a sounding board and a safe place where everyone understands the challenges of caregiving and there is no judgment. Meetings are gently facilitated and encourage sharing of feelings\, problems\, helpful information\, and bright spots of caregiving. There is no “one way” to handle every caregiver situation\, and sharing experiences is helpful to all. Average attendance is 7-12 caregivers\, so everyone has a chance to share\, ask questions\, and raise topics. \nFor more information or to sign up\, contact the Facilitators: Jack Tarr\, 703-821-6838\, jtarr5@verizon.net; or Lynn Rafferty\, 703-508-1365\, radmom8992@gmail.com
URL:https://scnova.org/event/caregiver-support-group/2024-10-01/1/
LOCATION:VA
END:VEVENT
BEGIN:VEVENT
DTSTART;TZID=America/New_York:20241001T100000
DTEND;TZID=America/New_York:20270105T113000
DTSTAMP:20260424T163456
CREATED:20240924T181257Z
LAST-MODIFIED:20260106T160055Z
UID:10000812-1727776800-1799148600@scnova.org
SUMMARY:Caregiver Support Group
DESCRIPTION:Meets the 1st and 3rd Tuesdays of each month\n10:00 am to 11:30 am via Zoom \nThe group is a sounding board and a safe place where everyone understands the challenges of caregiving and there is no judgment. Meetings are gently facilitated and encourage sharing of feelings\, problems\, helpful information\, and bright spots of caregiving. There is no “one way” to handle every caregiver situation\, and sharing experiences is helpful to all. Average attendance is 7-12 caregivers\, so everyone has a chance to share\, ask questions\, and raise topics. \nFor more information or to sign up\, contact the Facilitators: Jack Tarr\, 703-821-6838\, jtarr5@verizon.net; or Lynn Rafferty\, 703-508-1365\, radmom8992@gmail.com
URL:https://scnova.org/event/caregiver-support-group/2024-10-01/2/
LOCATION:VA
END:VEVENT
BEGIN:VEVENT
DTSTART;TZID=America/New_York:20251203T104500
DTEND;TZID=America/New_York:20260204T114500
DTSTAMP:20260424T163456
CREATED:20250617T194206Z
LAST-MODIFIED:20260105T200203Z
UID:10000885-1764758700-1770205500@scnova.org
SUMMARY:Active Aging Wellness
DESCRIPTION:SCNOVA sponsors an Active Aging Wellness class via Zoom on Wednesdays\, led by Tim Sun\, an exercise physiologist. It is conducted in 8-week sessions that cost $50 for the 8-class session. Each class focuses on low impact exercises\, balance\, coordination and stretching. Anyone 50 years or older is invited to participate. \nThe current 8-week session runs from Dec 3 through February 4\, 2026. Each weekly class is held for 1 hour from 10:45am to 11:45am over Zoom. After you are registered\, Tim will provide directions on how to pay online or by check and will provide an invitation link to connect to the Zoom virtual class. \nTo register or for more information please contact Casey Tarr (703-821-6838 | meileentarr1@verizon.net).
URL:https://scnova.org/event/active-aging-wellness/2025-12-03/2/
LOCATION:By Zoom
END:VEVENT
BEGIN:VEVENT
DTSTART;TZID=America/New_York:20260107T104500
DTEND;TZID=America/New_York:20260107T114500
DTSTAMP:20260424T163456
CREATED:20250617T194206Z
LAST-MODIFIED:20260105T200203Z
UID:10000914-1767782700-1767786300@scnova.org
SUMMARY:Active Aging Wellness
DESCRIPTION:SCNOVA sponsors an Active Aging Wellness class via Zoom on Wednesdays\, led by Tim Sun\, an exercise physiologist. It is conducted in 8-week sessions that cost $50 for the 8-class session. Each class focuses on low impact exercises\, balance\, coordination and stretching. Anyone 50 years or older is invited to participate. \nThe current 8-week session runs from Dec 3 through February 4\, 2026. Each weekly class is held for 1 hour from 10:45am to 11:45am over Zoom. After you are registered\, Tim will provide directions on how to pay online or by check and will provide an invitation link to connect to the Zoom virtual class. \nTo register or for more information please contact Casey Tarr (703-821-6838 | meileentarr1@verizon.net).
URL:https://scnova.org/event/active-aging-wellness/2026-01-07/
LOCATION:By Zoom
END:VEVENT
BEGIN:VEVENT
DTSTART;TZID=America/New_York:20260108T080000
DTEND;TZID=America/New_York:20260108T170000
DTSTAMP:20260424T163456
CREATED:20250616T190334Z
LAST-MODIFIED:20260105T200514Z
UID:10000861-1767859200-1767891600@scnova.org
SUMMARY:Tai Chi / Qigong
DESCRIPTION:Tai Chi is a series of gentle physical exercises and stretches. Each posture flows into the next without pause\, ensuring that your body is in constant motion. Tai Chi is sometimes described as meditation in motion because it promotes serenity through gentle movements – connecting the mind and body. \nInstructor: Rob Gehring \nClasses are held every Monday and Thursday\, from 9:00-9:45 a.m.\, during the summer 2025 semester and continuing thereafter to and through each subsequent semester. Classes are available all year with the exception of August and during certain holiday periods. \nThe semester enrollment fee is a suggested donation of $45. To register for Tai Chi\, or for more information on the program\, call 703-281-0538. \nAll classes will meet both:\n• Physically Thursdays – in the Unitarian Universalist Church (2709 Hunter Mill Rd\, Oakton VA 22124).\n• Physically Mondays – in the Emmanuel Lutheran Church (2589 Chain Bridge Rd\, Oakton VA 22181).\n• Physically During Spring and Summer – weather permitting\, classes may be held outside at Nottoway Park in Vienna (9537 Courthouse Rd\, Vienna VA 22181)\n• Virtually In inclement weather or when churches are not available – by Zoom. Registered AIL enrollees will receive a Zoom link by email. If you do not receive a Zoom link\, please contact the office at 703-281-0538. \nNote: during inclement weather\, Tai Chi will follow the Fairfax County School System determination of cancellation or delay.
URL:https://scnova.org/event/tai-chi-qi-gong/2026-01-08/
LOCATION:VA
END:VEVENT
BEGIN:VEVENT
DTSTART;TZID=America/New_York:20260114T104500
DTEND;TZID=America/New_York:20260114T114500
DTSTAMP:20260424T163456
CREATED:20250617T194206Z
LAST-MODIFIED:20260105T200203Z
UID:10000915-1768387500-1768391100@scnova.org
SUMMARY:Active Aging Wellness
DESCRIPTION:SCNOVA sponsors an Active Aging Wellness class via Zoom on Wednesdays\, led by Tim Sun\, an exercise physiologist. It is conducted in 8-week sessions that cost $50 for the 8-class session. Each class focuses on low impact exercises\, balance\, coordination and stretching. Anyone 50 years or older is invited to participate. \nThe current 8-week session runs from Dec 3 through February 4\, 2026. Each weekly class is held for 1 hour from 10:45am to 11:45am over Zoom. After you are registered\, Tim will provide directions on how to pay online or by check and will provide an invitation link to connect to the Zoom virtual class. \nTo register or for more information please contact Casey Tarr (703-821-6838 | meileentarr1@verizon.net).
URL:https://scnova.org/event/active-aging-wellness/2026-01-14/
LOCATION:By Zoom
END:VEVENT
BEGIN:VEVENT
DTSTART;TZID=America/New_York:20260114T160000
DTEND;TZID=America/New_York:20260114T180000
DTSTAMP:20260424T163456
CREATED:20260102T183157Z
LAST-MODIFIED:20260102T183158Z
UID:10001166-1768406400-1768413600@scnova.org
SUMMARY:New Year's Bingo at Foster's Grille
DESCRIPTION:  \n \n  \n$10 for 10 games\, yummy eats and fun prizes! Thank you to Foster’s Grille for providing 20% of all refreshment proceeds to benefit the Shepherd’s Center of Northern Virginia.\n4:00 pm to 6:00 pm\, at Foster’s Grille – 138A Maple Ave. Vienna VA 22180\n*Registration not required. Pay at the door.
URL:https://scnova.org/event/new-years-bingo-at-fosters-grille/
LOCATION:Foster’s Grille\, 138 – A Maple Ave W\, Vienna\, VA\, 22180\, United States
END:VEVENT
BEGIN:VEVENT
DTSTART;TZID=America/New_York:20260121T104500
DTEND;TZID=America/New_York:20260121T114500
DTSTAMP:20260424T163456
CREATED:20250617T194206Z
LAST-MODIFIED:20260105T200203Z
UID:10000916-1768992300-1768995900@scnova.org
SUMMARY:Active Aging Wellness
DESCRIPTION:SCNOVA sponsors an Active Aging Wellness class via Zoom on Wednesdays\, led by Tim Sun\, an exercise physiologist. It is conducted in 8-week sessions that cost $50 for the 8-class session. Each class focuses on low impact exercises\, balance\, coordination and stretching. Anyone 50 years or older is invited to participate. \nThe current 8-week session runs from Dec 3 through February 4\, 2026. Each weekly class is held for 1 hour from 10:45am to 11:45am over Zoom. After you are registered\, Tim will provide directions on how to pay online or by check and will provide an invitation link to connect to the Zoom virtual class. \nTo register or for more information please contact Casey Tarr (703-821-6838 | meileentarr1@verizon.net).
URL:https://scnova.org/event/active-aging-wellness/2026-01-21/
LOCATION:By Zoom
END:VEVENT
BEGIN:VEVENT
DTSTART;TZID=America/New_York:20260128T104500
DTEND;TZID=America/New_York:20260128T114500
DTSTAMP:20260424T163456
CREATED:20250617T194206Z
LAST-MODIFIED:20260105T200203Z
UID:10000917-1769597100-1769600700@scnova.org
SUMMARY:Active Aging Wellness
DESCRIPTION:SCNOVA sponsors an Active Aging Wellness class via Zoom on Wednesdays\, led by Tim Sun\, an exercise physiologist. It is conducted in 8-week sessions that cost $50 for the 8-class session. Each class focuses on low impact exercises\, balance\, coordination and stretching. Anyone 50 years or older is invited to participate. \nThe current 8-week session runs from Dec 3 through February 4\, 2026. Each weekly class is held for 1 hour from 10:45am to 11:45am over Zoom. After you are registered\, Tim will provide directions on how to pay online or by check and will provide an invitation link to connect to the Zoom virtual class. \nTo register or for more information please contact Casey Tarr (703-821-6838 | meileentarr1@verizon.net).
URL:https://scnova.org/event/active-aging-wellness/2026-01-28/
LOCATION:By Zoom
END:VEVENT
END:VCALENDAR